BEGIN:VCALENDAR
VERSION:2.0
CALSCALE:GREGORIAN
PRODID:-//Diputació de Barcelona//DibaCMS//EN
BEGIN:VEVENT
UID:5132
DTSTAMP:20260424T023914
DTSTART:20120604T000000
DTEND:20130604T000000
SUMMARY:L'onzena Festa de l'Esport de la Llagosta es va celebrar dissabte
LOCATION:
METHOD:PUBLISH
X-WR-CALNAME:llagosta@llagosta.cat
X-WR-TIMEZONE:Europe/Madrid
DESCRIPTION:La Llagosta va celebrar dissabte l'onzena edició de la Festa de l'Esport. La jornada, promoguda per la Diputació de Barcelona i organitzada per l'Ajuntament, va servir per potenciar la pràctica esportiva.
URI:https://www.llagosta.cat/actualitat/noticies/lonzena-festa-de-lesport-de-la-llagosta-es-va-celebrar-dissabte.html
CLASS:PUBLIC
END:VEVENT
END:VCALENDAR
