BEGIN:VCALENDAR
VERSION:2.0
CALSCALE:GREGORIAN
PRODID:-//Diputació de Barcelona//DibaCMS//EN
BEGIN:VEVENT
UID:5131
DTSTAMP:20260423T095422
DTSTART:20120604T000000
DTEND:20130604T000000
SUMMARY:El cap de setmana, es van desenvolupar els primers actes de la Setmana del Teatre
LOCATION:
METHOD:PUBLISH
X-WR-CALNAME:llagosta@llagosta.cat
X-WR-TIMEZONE:Europe/Madrid
DESCRIPTION:Unes 200 persones van veure ahir l'obra 30/40 Livingstone, de Sergi López i Jorge Picó, al Centre Cultural. Aquesta representació s'emmarca en la primera Setmana del Teatre de la Llagosta, que va ser inaugurada divendres.
URI:https://www.llagosta.cat/actualitat/noticies/el-cap-de-setmana-es-van-desenvolupar-els-primers-actes-de-la-setmana-del-teatre.html
CLASS:PUBLIC
END:VEVENT
END:VCALENDAR
