BEGIN:VCALENDAR
VERSION:2.0
CALSCALE:GREGORIAN
PRODID:-//Diputació de Barcelona//DibaCMS//EN
BEGIN:VEVENT
UID:5130
DTSTAMP:20260424T092506
DTSTART:20120601T000000
DTEND:20130601T000000
SUMMARY:L'Escola de Pintura de la Casa del Pueblo, protagonista d'una exposició al Centre Cultural
LOCATION:
METHOD:PUBLISH
X-WR-CALNAME:llagosta@llagosta.cat
X-WR-TIMEZONE:Europe/Madrid
DESCRIPTION:El Centre Cultural de la Llagosta acull des d'avui l'exposició de fi de curs dels alumnes de l'Escola de Pintura Casa del Pueblo. La mostra estarà oberta fins al 15 de juny. 
	
URI:https://www.llagosta.cat/actualitat/noticies/lescola-de-pintura-de-la-casa-del-pueblo-protagonista-duna-exposicio-al-centre-cultural.html
CLASS:PUBLIC
END:VEVENT
END:VCALENDAR
