BEGIN:VCALENDAR
VERSION:2.0
CALSCALE:GREGORIAN
PRODID:-//Diputació de Barcelona//DibaCMS//EN
BEGIN:VEVENT
UID:5129
DTSTAMP:20260424T002944
DTSTART:20120601T000000
DTEND:20130601T000000
SUMMARY:La Llagosta celebrarà demà l'onzena edició de la Festa de l'Esport
LOCATION:
METHOD:PUBLISH
X-WR-CALNAME:llagosta@llagosta.cat
X-WR-TIMEZONE:Europe/Madrid
DESCRIPTION:La plaça d'Antoni Baqué acollirà demà l'onzena Festa de l'Esport. La jornada, promoguda per la Diputació de Barcelona i organitzada al nostre municipi per l'Ajuntament, compta aquest any amb algunes novetats, com un cros escolar i una competició d'escacs. La Festa de l'Esport compta amb la col·laboració de diverses entitats.
URI:https://www.llagosta.cat/actualitat/noticies/la-llagosta-celebrara-dema-lonzena-edicio-de-la-festa-de-lesport.html
CLASS:PUBLIC
END:VEVENT
END:VCALENDAR
