BEGIN:VCALENDAR
VERSION:2.0
CALSCALE:GREGORIAN
PRODID:-//Diputació de Barcelona//DibaCMS//EN
BEGIN:VEVENT
UID:5128
DTSTAMP:20260423T013416
DTSTART:20120601T000000
DTEND:20130601T000000
SUMMARY:La Casa de Andalucía organitza demà la darrera preliminar del Concurs de Cante Jondo
LOCATION:
METHOD:PUBLISH
X-WR-CALNAME:llagosta@llagosta.cat
X-WR-TIMEZONE:Europe/Madrid
DESCRIPTION:Demà, se celebrarà la quarta i darrera preliminar del Concurs de Cante Jondo Ciutat de la Llagosta, organitzat per la Casa de Andalucía. Les actuacions, com les anteriors, tindran lloc a l'antic Centre Cultural del carrer de la Florida a les vuit del vespre.
URI:https://www.llagosta.cat/actualitat/noticies/14-04-2015-la-casa-de-andalucia-organitza-dema-la-darrera-preliminar-del-concurs-de-cante-jondo.html
CLASS:PUBLIC
END:VEVENT
END:VCALENDAR
