BEGIN:VCALENDAR
VERSION:2.0
CALSCALE:GREGORIAN
PRODID:-//Diputació de Barcelona//DibaCMS//EN
BEGIN:VEVENT
UID:5127
DTSTAMP:20260423T083938
DTSTART:20120601T000000
DTEND:20130601T000000
SUMMARY:La Policia Local de la Llagosta imputa dues persones per denúncies falses de robatori
LOCATION:
METHOD:PUBLISH
X-WR-CALNAME:llagosta@llagosta.cat
X-WR-TIMEZONE:Europe/Madrid
DESCRIPTION:La Policia Local de la Llagosta ha tramès als Jutjats de Mollet del Vallès dues imputacions contra dues persones per presentar denúncies falses. En els dos successos, es podria tractar de simulacions de delicte.
URI:https://www.llagosta.cat/actualitat/noticies/la-policia-local-de-la-llagosta-imputa-dues-persones-per-denuncies-falses-de-robatori.html
CLASS:PUBLIC
END:VEVENT
END:VCALENDAR
