BEGIN:VCALENDAR
VERSION:2.0
CALSCALE:GREGORIAN
PRODID:-//Diputació de Barcelona//DibaCMS//EN
BEGIN:VEVENT
UID:5126
DTSTAMP:20260423T042857
DTSTART:20120601T000000
DTEND:20130601T000000
SUMMARY:El ple desestima un acord amb l'empresa Geafe signat durant el mandat anterior
LOCATION:
METHOD:PUBLISH
X-WR-CALNAME:llagosta@llagosta.cat
X-WR-TIMEZONE:Europe/Madrid
DESCRIPTION:La desestimació d'uns acords amb Geafe, l'empresa que gestiona el Complex Esportiu Municipal El Turó, la rescissió del contracte amb la firma que s'havia de fer càrrec del manteniment de la gespa artificial del camp de futbol i tres mocions en contra de retallades en educació i polítiques d'ocupació van ser els principals temes que es van tractar ahir en el ple ordinari del mes de maig de l'Ajuntament de la Llagosta. La sessió va durar més de tres hores. 
URI:https://www.llagosta.cat/actualitat/noticies/el-ple-desestima-un-acord-amb-lempresa-geafe-signat-durant-el-mandat-anterior.html
CLASS:PUBLIC
END:VEVENT
END:VCALENDAR
