BEGIN:VCALENDAR
VERSION:2.0
CALSCALE:GREGORIAN
PRODID:-//Diputació de Barcelona//DibaCMS//EN
BEGIN:VEVENT
UID:5125
DTSTAMP:20260423T153437
DTSTART:20120601T000000
DTEND:20130531T000000
SUMMARY:La primera Setmana del Teatre de la Llagosta començarà demà al Centre Cultural
LOCATION:
METHOD:PUBLISH
X-WR-CALNAME:llagosta@llagosta.cat
X-WR-TIMEZONE:Europe/Madrid
DESCRIPTION:Aquesta tarda, comença la primera Setmana del Teatre de la Llagosta, una iniciativa que vol promoure aquesta art escènica al nostre municipi. La programació combinarà l'activitat de grups teatrals llagostencs, amb representacions professionals i la realització d'altres activitats, com tallers, mostres i taules rodones. 
URI:https://www.llagosta.cat/actualitat/noticies/la-primera-setmana-del-teatre-de-la-llagosta-comencara-dema-al-centre-cultural.html
CLASS:PUBLIC
END:VEVENT
END:VCALENDAR
