BEGIN:VCALENDAR
VERSION:2.0
CALSCALE:GREGORIAN
PRODID:-//Diputació de Barcelona//DibaCMS//EN
BEGIN:VEVENT
UID:5124
DTSTAMP:20260424T073908
DTSTART:20120531T000000
DTEND:20130531T000000
SUMMARY:L'Ajuntament distribueix avui el Butlletí d'Informació Municipal del mes de juny
LOCATION:
METHOD:PUBLISH
X-WR-CALNAME:llagosta@llagosta.cat
X-WR-TIMEZONE:Europe/Madrid
DESCRIPTION:Avui surt al carrer el Butlletí d'Informació Municipal del mes de juny. A la portada, es pot consultar una notícia sobre l'aprovació inicial del pressupost municipal de 2012. A l'interior de la publicació, es pot trobar la butlleta per votar pel cartell de la Festa Major, mentre que la contraportada està dedicada a la primera Setmana del Teatre de la Llagosta.
URI:https://www.llagosta.cat/actualitat/noticies/lajuntament-distribueix-avui-el-butlleti-dinformacio-municipal-del-mes-de-juny.html
CLASS:PUBLIC
END:VEVENT
END:VCALENDAR
