BEGIN:VCALENDAR
VERSION:2.0
CALSCALE:GREGORIAN
PRODID:-//Diputació de Barcelona//DibaCMS//EN
BEGIN:VEVENT
UID:5123
DTSTAMP:20260424T055220
DTSTART:20120531T000000
DTEND:20130531T000000
SUMMARY:Els gegants de la Llagosta aniran diumenge a la Trobada Comarcal a Sant Cugat
LOCATION:
METHOD:PUBLISH
X-WR-CALNAME:llagosta@llagosta.cat
X-WR-TIMEZONE:Europe/Madrid
DESCRIPTION:La Colla gegantera de la Llagosta participarà diumenge en la Trobada Comarcal de Gegants del Vallès, que arriba a la seva dinovena edició i que se celebrarà a Sant Cugat del Vallès. Els tres gegants de la nostra localitat assistiran a aquesta cita. La geganta Blanqueta cedirà la banda de Pubilla del Vallès, que ha lluït durant aquest darrer any, a la geganta de Sant Cugat.
URI:https://www.llagosta.cat/actualitat/noticies/els-gegants-de-la-llagosta-aniran-diumenge-a-la-trobada-comarcal-a-sant-cugat.html
CLASS:PUBLIC
END:VEVENT
END:VCALENDAR
