BEGIN:VCALENDAR
VERSION:2.0
CALSCALE:GREGORIAN
PRODID:-//Diputació de Barcelona//DibaCMS//EN
BEGIN:VEVENT
UID:5122
DTSTAMP:20260423T171226
DTSTART:20120531T000000
DTEND:20130531T000000
SUMMARY:Avui, a partir de les set de la tarda, se celebrarà el ple ordinari del mes de maig
LOCATION:
METHOD:PUBLISH
X-WR-CALNAME:llagosta@llagosta.cat
X-WR-TIMEZONE:Europe/Madrid
DESCRIPTION:L'Ajuntament de la Llagosta celebrarà avui, a partir de les set de la tarda, el ple ordinari del mes de maig. Durant la sessió, es desestimaran uns documents signats el 25 de maig de 2011, tres dies després de les eleccions municipals, per l'alcalde del mandat anterior, Antonio Rísquez, i l'empresa Geafe, concessionària del Complex Esportiu Municipal El Turó.
URI:https://www.llagosta.cat/actualitat/noticies/avui-a-partir-de-les-set-de-la-tarda-se-celebrara-el-ple-ordinari-del-mes-de-maig.html
CLASS:PUBLIC
END:VEVENT
END:VCALENDAR
