BEGIN:VCALENDAR
VERSION:2.0
CALSCALE:GREGORIAN
PRODID:-//Diputació de Barcelona//DibaCMS//EN
BEGIN:VEVENT
UID:5121
DTSTAMP:20260423T153405
DTSTART:20120530T000000
DTEND:20130530T000000
SUMMARY:La Room obre la inscripció per participar en un flashmob a la Llagosta el 29 de juny
LOCATION:
METHOD:PUBLISH
X-WR-CALNAME:llagosta@llagosta.cat
X-WR-TIMEZONE:Europe/Madrid
DESCRIPTION:L'escola de dansa La Room de la Llagosta organitzarà el 29 de juny un flashmob a la nostra localitat. L'acció tindrà lloc al carrer de l'Estació i compta amb la col·laboració de l'Ajuntament de la nostra localitat.
URI:https://www.llagosta.cat/actualitat/noticies/la-room-obre-la-inscripcio-per-participar-en-un-flashmob-a-la-llagosta-el-29-de-juny.html
CLASS:PUBLIC
END:VEVENT
END:VCALENDAR
