BEGIN:VCALENDAR
VERSION:2.0
CALSCALE:GREGORIAN
PRODID:-//Diputació de Barcelona//DibaCMS//EN
BEGIN:VEVENT
UID:5120
DTSTAMP:20260423T062250
DTSTART:20120530T000000
DTEND:20130530T000000
SUMMARY:El Casal d'Avis de la Llagosta celebra el 19è aniversari amb diverses activitats
LOCATION:
METHOD:PUBLISH
X-WR-CALNAME:llagosta@llagosta.cat
X-WR-TIMEZONE:Europe/Madrid
DESCRIPTION:El Casal d'Avis de la Llagosta celebra aquest any al seu dinovè aniversari. Per commemorar-ho, a partir de divendres, hi ha programades tot un seguit d'activitats obertes a tota la població.
URI:https://www.llagosta.cat/actualitat/noticies/el-casal-davis-de-la-llagosta-celebra-el-19e-aniversari-amb-diverses-activitats.html
CLASS:PUBLIC
END:VEVENT
END:VCALENDAR
