BEGIN:VCALENDAR
VERSION:2.0
CALSCALE:GREGORIAN
PRODID:-//Diputació de Barcelona//DibaCMS//EN
BEGIN:VEVENT
UID:5119
DTSTAMP:20260423T102528
DTSTART:20120530T000000
DTEND:20130530T000000
SUMMARY:La Concòrdia A empata el darrer partit i no encaixa cap derrota en tot el campionat
LOCATION:
METHOD:PUBLISH
X-WR-CALNAME:llagosta@llagosta.cat
X-WR-TIMEZONE:Europe/Madrid
DESCRIPTION:El primer equip del Club Deportivo La Concòrdia va acabar el cap de setmana passat la lliga amb un empat a dos gols a la pista de Les Corts B. Les de la nostra localitat han estat campiones del grup 1 de la Primera Divisió sense haver encaixat cap derrota. 
URI:https://www.llagosta.cat/actualitat/noticies/la-concordia-a-empata-el-darrer-partit-i-no-encaixa-cap-derrota-en-tot-el-campionat.html
CLASS:PUBLIC
END:VEVENT
END:VCALENDAR
