BEGIN:VCALENDAR
VERSION:2.0
CALSCALE:GREGORIAN
PRODID:-//Diputació de Barcelona//DibaCMS//EN
BEGIN:VEVENT
UID:5118
DTSTAMP:20260424T020330
DTSTART:20120530T000000
DTEND:20130530T000000
SUMMARY:El Grup de Ball de Gitanes va acabar la temporada diumenge amb la Trobada de Montserrat
LOCATION:
METHOD:PUBLISH
X-WR-CALNAME:llagosta@llagosta.cat
X-WR-TIMEZONE:Europe/Madrid
DESCRIPTION:El Grup de Ball de Gitanes de la Llagosta va finalitzar diumenge la temporada amb la participació a la Trobada de Montserrat, que va aplegar colles de tretze poblacions del Vallès. Els de la nostra localitat hi van anar amb 35 persones entre balladors i acompanyants. 
URI:https://www.llagosta.cat/actualitat/noticies/el-grup-de-ball-de-gitanes-va-acabar-la-temporada-diumenge-amb-la-trobada-de-montserrat.html
CLASS:PUBLIC
END:VEVENT
END:VCALENDAR
