BEGIN:VCALENDAR
VERSION:2.0
CALSCALE:GREGORIAN
PRODID:-//Diputació de Barcelona//DibaCMS//EN
BEGIN:VEVENT
UID:5117
DTSTAMP:20260424T091335
DTSTART:20120529T000000
DTEND:20130529T000000
SUMMARY:La Diputació aprova subvencions de 111.633 euros per a l'Ajuntament de la Llagosta
LOCATION:
METHOD:PUBLISH
X-WR-CALNAME:llagosta@llagosta.cat
X-WR-TIMEZONE:Europe/Madrid
DESCRIPTION:La Diputació de Barcelona ha adjudicat a l'Ajuntament de la Llagosta subvencions per a diferents projectes municipals. L'ens provincial aportarà aquest any 111.633 euros en el marc del Pla de concertació del programa Xarxa Barcelona Municipis de Qualitat. 
URI:https://www.llagosta.cat/actualitat/noticies/la-diputacio-aprova-subvencions-de-111633-euros-per-a-lajuntament-de-la-llagosta.html
CLASS:PUBLIC
END:VEVENT
END:VCALENDAR
