BEGIN:VCALENDAR
VERSION:2.0
CALSCALE:GREGORIAN
PRODID:-//Diputació de Barcelona//DibaCMS//EN
BEGIN:VEVENT
UID:5116
DTSTAMP:20260423T134125
DTSTART:20120529T000000
DTEND:20130529T000000
SUMMARY:L'Ajuntament de la Llagosta convoca dues places interines d'agent de la Policia Local
LOCATION:
METHOD:PUBLISH
X-WR-CALNAME:llagosta@llagosta.cat
X-WR-TIMEZONE:Europe/Madrid
DESCRIPTION:L'Ajuntament de la Llagosta ha obert una convocatòria per cobrir dues places interines d'agent de Policia Local. Les instàncies es poden presentar des d’avui i fins al 7 de juny a l'Oficina d'Atenció a la Ciutadania, a l'edifici del Consistori, en horari de dilluns a divendres, de 8.30 a 14 hores, i dimarts i dijous, de 16 a 20 hores. 
URI:https://www.llagosta.cat/actualitat/noticies/lajuntament-de-la-llagosta-convoca-dues-places-interines-dagent-de-la-policia-local.html
CLASS:PUBLIC
END:VEVENT
END:VCALENDAR
