BEGIN:VCALENDAR
VERSION:2.0
CALSCALE:GREGORIAN
PRODID:-//Diputació de Barcelona//DibaCMS//EN
BEGIN:VEVENT
UID:5115
DTSTAMP:20260423T102252
DTSTART:20120529T000000
DTEND:20130529T000000
SUMMARY:L'Asociación Rociera Andaluza de la Llagosta, satisfeta amb el Rocío
LOCATION:
METHOD:PUBLISH
X-WR-CALNAME:llagosta@llagosta.cat
X-WR-TIMEZONE:Europe/Madrid
DESCRIPTION:L'Asociación Rociera Andaluza de la Llagosta ha fet un balanç positiu de la celebració del Rocío, que s'ha desenvolupat fins ahir als terrenys de Mas Duran, entre Montcada i Ripollet. L'entitat de la nostra localitat ha tingut instal·lada la seva caseta al recinte del Rocío durant els tres dies que ha durat la festa. 
URI:https://www.llagosta.cat/actualitat/noticies/lasociacion-rociera-andaluza-de-la-llagosta-satisfeta-amb-el-rocio.html
CLASS:PUBLIC
END:VEVENT
END:VCALENDAR
