BEGIN:VCALENDAR
VERSION:2.0
CALSCALE:GREGORIAN
PRODID:-//Diputació de Barcelona//DibaCMS//EN
BEGIN:VEVENT
UID:5114
DTSTAMP:20260423T134149
DTSTART:20120529T000000
DTEND:20130529T000000
SUMMARY:La Unión Llagostense derrota el Gavà (3-5) i es classifica per als quarts de final de la Copa
LOCATION:
METHOD:PUBLISH
X-WR-CALNAME:llagosta@llagosta.cat
X-WR-TIMEZONE:Europe/Madrid
DESCRIPTION:El Fútbol Sala Unión Llagostense s'ha classificat per als quarts de final de la Copa Catalunya després d'eliminar el Gavà. Els de José Manuel Poyato es van imposar dissabte a Gavà per 3 a 5 i ara es jugaran el passi a les semifinals contra el Cardedeu, també a partit únic.
URI:https://www.llagosta.cat/actualitat/noticies/la-union-llagostense-derrota-el-gava-3-5-i-es-classifica-per-als-quarts-de-final-de-la-copa.html
CLASS:PUBLIC
END:VEVENT
END:VCALENDAR
