BEGIN:VCALENDAR
VERSION:2.0
CALSCALE:GREGORIAN
PRODID:-//Diputació de Barcelona//DibaCMS//EN
BEGIN:VEVENT
UID:5113
DTSTAMP:20260423T134042
DTSTART:20120528T000000
DTEND:20130528T000000
SUMMARY:El Viejas Glorias derrota el Poblenou per 2 a 4 en un partit bastant fluix
LOCATION:
METHOD:PUBLISH
X-WR-CALNAME:llagosta@llagosta.cat
X-WR-TIMEZONE:Europe/Madrid
DESCRIPTION:El Club Deportivo Viejas Glorias va guanyar el cap de setmana passat per 2 a 4 al camp del cuer, el Poblenou. El partit va ser bastant fluix. El Viejas Glorias va portar el domini, mentre que el Poblenou es va dedicar a defensar-se i buscar el gol en el contracop. 
URI:https://www.llagosta.cat/actualitat/noticies/el-viejas-glorias-derrota-el-poblenou-per-2-a-4-en-un-partit-bastant-fluix.html
CLASS:PUBLIC
END:VEVENT
END:VCALENDAR
