BEGIN:VCALENDAR
VERSION:2.0
CALSCALE:GREGORIAN
PRODID:-//Diputació de Barcelona//DibaCMS//EN
BEGIN:VEVENT
UID:5112
DTSTAMP:20260423T042933
DTSTART:20120528T000000
DTEND:20130528T000000
SUMMARY:Demà, s'obre a l'INS Marina el període de preinscripció per als Cicles de Grau Superior
LOCATION:
METHOD:PUBLISH
X-WR-CALNAME:llagosta@llagosta.cat
X-WR-TIMEZONE:Europe/Madrid
DESCRIPTION:L'Institut Marina de la Llagosta obrirà demà el període de preinscripció per als Cicles Formatius de Grau Superior del proper curs 2012-2013. La preinscripció es pot realitzar fins al divendres 8 de juny.
URI:https://www.llagosta.cat/actualitat/noticies/dema-sobre-a-lins-marina-el-periode-de-preinscripcio-per-als-cicles-de-grau-superior.html
CLASS:PUBLIC
END:VEVENT
END:VCALENDAR
