BEGIN:VCALENDAR
VERSION:2.0
CALSCALE:GREGORIAN
PRODID:-//Diputació de Barcelona//DibaCMS//EN
BEGIN:VEVENT
UID:5111
DTSTAMP:20260423T135203
DTSTART:20120528T000000
DTEND:20130527T000000
SUMMARY:Avui comença el període de votacions dels veïns per escollir el cartell de la Festa Major
LOCATION:
METHOD:PUBLISH
X-WR-CALNAME:llagosta@llagosta.cat
X-WR-TIMEZONE:Europe/Madrid
DESCRIPTION:Des d'avui i fins al 15 de juny, els ciutadans poden votar per escollir el cartell de la Festa Major de la Llagosta d'entre els tres dissenys finalistes. Avui, ja es pot votar per Internet en aquest web, mentre que dijous es podrà fer amb la butlleta que sortirà al Butlletí d'Informació Municipal del mes de juny, que s'haurà de lliurar a l'Oficina d'Atenció a la Ciutadania. 
URI:https://www.llagosta.cat/actualitat/noticies/avui-comenca-el-periode-de-votacions-dels-veins-per-escollir-el-cartell-de-la-festa-major.html
CLASS:PUBLIC
END:VEVENT
END:VCALENDAR
