BEGIN:VCALENDAR
VERSION:2.0
CALSCALE:GREGORIAN
PRODID:-//Diputació de Barcelona//DibaCMS//EN
BEGIN:VEVENT
UID:5110
DTSTAMP:20260423T113801
DTSTART:20120528T000000
DTEND:20130528T000000
SUMMARY:Acaba el Curs d'educació viària impartit per la Policia Local a alumnes de cinquè de Primària
LOCATION:
METHOD:PUBLISH
X-WR-CALNAME:llagosta@llagosta.cat
X-WR-TIMEZONE:Europe/Madrid
DESCRIPTION:Ja ha acabat el Curs d'educació viària que durant les darreres setmanes ha impartit la Policia Local de la Llagosta a 150 alumnes de 5è de Primària de les escoles de la nostra localitat. L'activitat arribava a la seva edició número 24.
URI:https://www.llagosta.cat/actualitat/noticies/acaba-el-curs-deducacio-viaria-impartit-per-la-policia-local-a-alumnes-de-cinque-de-primaria.html
CLASS:PUBLIC
END:VEVENT
END:VCALENDAR
