BEGIN:VCALENDAR
VERSION:2.0
CALSCALE:GREGORIAN
PRODID:-//Diputació de Barcelona//DibaCMS//EN
BEGIN:VEVENT
UID:5109
DTSTAMP:20260423T102559
DTSTART:20120528T000000
DTEND:20130528T000000
SUMMARY:Sis firmen opten a adjudicar-se el servei d'escombraries i neteja viària de la Llagosta
LOCATION:
METHOD:PUBLISH
X-WR-CALNAME:llagosta@llagosta.cat
X-WR-TIMEZONE:Europe/Madrid
DESCRIPTION:Sis empreses opten a l'adjudicació del servei de recollida d'escombraries i la neteja viària de la Llagosta. En concret, es tracta de les firmes SEMATSA, ARCA del Maresme i Garbet, Urbaser, Fomento de Construcciones y Contratas, Serveis Reunits i Talher. El Consistori estudiarà ara les ofertes presentades per cada empresa i, posteriorment, adjudicarà el servei durant un ple. 
URI:https://www.llagosta.cat/actualitat/noticies/sis-firmen-opten-a-adjudicar-se-el-servei-descombraries-i-neteja-viaria-de-la-llagosta.html
CLASS:PUBLIC
END:VEVENT
END:VCALENDAR
