BEGIN:VCALENDAR
VERSION:2.0
CALSCALE:GREGORIAN
PRODID:-//Diputació de Barcelona//DibaCMS//EN
BEGIN:VEVENT
UID:5108
DTSTAMP:20260423T121505
DTSTART:20120525T000000
DTEND:20130505T000000
SUMMARY:Avui, s'han presentat els tres dissenys finalistes del Concurs de cartells de la Festa Major
LOCATION:
METHOD:PUBLISH
X-WR-CALNAME:llagosta@llagosta.cat
X-WR-TIMEZONE:Europe/Madrid
DESCRIPTION:El jurat del Concurs de cartells de la Festa Major 2012 de la Llagosta ha escollit avui els tres dissenys finalistes. Els seus autors responen als pseudònims de Balis Catmí, Count Basie i Salta Martí. En aquesta ocasió, s'han presentat 17 cartells al certamen, organitzat per l'Ajuntament de la Llagosta.
URI:https://www.llagosta.cat/actualitat/noticies/avui-shan-presentat-els-tres-dissenys-finalistes-del-concurs-de-cartells-de-la-festa-major.html
CLASS:PUBLIC
END:VEVENT
END:VCALENDAR
