BEGIN:VCALENDAR
VERSION:2.0
CALSCALE:GREGORIAN
PRODID:-//Diputació de Barcelona//DibaCMS//EN
BEGIN:VEVENT
UID:5107
DTSTAMP:20260423T102355
DTSTART:20120525T000000
DTEND:20130525T000000
SUMMARY:Vallès Visió entrevista membres del Vallag i mostra opinions de veïns sobre l'actualitat
LOCATION:
METHOD:PUBLISH
X-WR-CALNAME:llagosta@llagosta.cat
X-WR-TIMEZONE:Europe/Madrid
DESCRIPTION:Avui divendres, a l'espai La Prèvia de Vallès Visió, a partir de les 21 hores, es podrà veure una entrevista amb dos membres del sènior de l'Handbol Club Vallag, Ramón López i Pedro Iglesias, que parlaran de l'ascens a Segona Catalana.
URI:https://www.llagosta.cat/actualitat/noticies/valles-visio-entrevista-membres-del-vallag-i-mostra-opinions-de-veins-sobre-lactualitat.html
CLASS:PUBLIC
END:VEVENT
END:VCALENDAR
