BEGIN:VCALENDAR
VERSION:2.0
CALSCALE:GREGORIAN
PRODID:-//Diputació de Barcelona//DibaCMS//EN
BEGIN:VEVENT
UID:5106
DTSTAMP:20260424T042813
DTSTART:20120525T000000
DTEND:20130525T000000
SUMMARY:El Grup de Ball de Gitanes de la Llagosta estarà present diumenge en la Ballada de Montserrat
LOCATION:
METHOD:PUBLISH
X-WR-CALNAME:llagosta@llagosta.cat
X-WR-TIMEZONE:Europe/Madrid
DESCRIPTION:El Grup de Ball de Gitanes de la Llagosta participarà diumenge en la tradicional Trobada de Montserrat amb la qual es dóna per acabada la roda del Vallès. Els de la nostra localitat hi assistiran amb la colla d'adults i amb la d'infantils, que han recuperat aquesta temporada. 
URI:https://www.llagosta.cat/actualitat/noticies/el-grup-de-ball-de-gitanes-de-la-llagosta-estara-present-diumenge-en-la-ballada-de-montserrat.html
CLASS:PUBLIC
END:VEVENT
END:VCALENDAR
