BEGIN:VCALENDAR
VERSION:2.0
CALSCALE:GREGORIAN
PRODID:-//Diputació de Barcelona//DibaCMS//EN
BEGIN:VEVENT
UID:5105
DTSTAMP:20260423T135233
DTSTART:20120525T000000
DTEND:20130525T000000
SUMMARY:Dilluns, xerrada per celebrar el Dia Internacional d'Acció per la Salut de les Dones
LOCATION:
METHOD:PUBLISH
X-WR-CALNAME:llagosta@llagosta.cat
X-WR-TIMEZONE:Europe/Madrid
DESCRIPTION:Dilluns, es commemorarà el Dia Internacional d'Acció per la Salut de les Dones. L'Ajuntament de la Llagosta organitzarà aquell dia una xerrada sota el títol de Dones, salut i qualitat de vida. 
URI:https://www.llagosta.cat/actualitat/noticies/dilluns-xerrada-per-celebrar-el-dia-internacional-daccio-per-la-salut-de-les-dones.html
CLASS:PUBLIC
END:VEVENT
END:VCALENDAR
