BEGIN:VCALENDAR
VERSION:2.0
CALSCALE:GREGORIAN
PRODID:-//Diputació de Barcelona//DibaCMS//EN
BEGIN:VEVENT
UID:5104
DTSTAMP:20260422T203608
DTSTART:20120525T000000
DTEND:20130525T000000
SUMMARY:L'Entidad Dominó La Llagosta celebrarà demà el Dia del soci a la seva seu
LOCATION:
METHOD:PUBLISH
X-WR-CALNAME:llagosta@llagosta.cat
X-WR-TIMEZONE:Europe/Madrid
DESCRIPTION:L'Entidad Dominó La Llagosta organitzarà demà el Dia del soci. L'acte consistirà en un dinar i un ball fi de festa. A la celebració, està prevista l'assistència de més de 400 persones.
URI:https://www.llagosta.cat/actualitat/noticies/lentidad-domino-la-llagosta-celebrara-dema-el-dia-del-soci-a-la-seva-seu.html
CLASS:PUBLIC
END:VEVENT
END:VCALENDAR
