BEGIN:VCALENDAR
VERSION:2.0
CALSCALE:GREGORIAN
PRODID:-//Diputació de Barcelona//DibaCMS//EN
BEGIN:VEVENT
UID:5103
DTSTAMP:20260422T221208
DTSTART:20120525T000000
DTEND:20130525T000000
SUMMARY:La Unión Llagostense juga demà a Gavà la primera eliminatòria de la Copa
LOCATION:
METHOD:PUBLISH
X-WR-CALNAME:llagosta@llagosta.cat
X-WR-TIMEZONE:Europe/Madrid
DESCRIPTION:El Fútbol Sala Unión Llagostense jugarà demà contra el Gavà la primera eliminatòria de la Copa Catalunya. Els de la nostra localitat van ser sisens a la Divisió d'Honor, mentre que el Gavà va ser el campió del grup B de la Territorial de Barcelona, una categoria per sota de la del conjunt llagostenc. L'eliminatòria és a partit únic i es disputarà a la pista de l'equip de categoria inferior, en aquest cas el Gavà.
URI:https://www.llagosta.cat/actualitat/noticies/la-union-llagostense-juga-dema-a-gava-la-primera-eliminatoria-de-la-copa.html
CLASS:PUBLIC
END:VEVENT
END:VCALENDAR
