BEGIN:VCALENDAR
VERSION:2.0
CALSCALE:GREGORIAN
PRODID:-//Diputació de Barcelona//DibaCMS//EN
BEGIN:VEVENT
UID:5100
DTSTAMP:20260423T003230
DTSTART:20120524T000000
DTEND:20130524T000000
SUMMARY:El sènior del Vallag acaba la lliga de l'ascens a Segona Catalana amb un nou triomf
LOCATION:
METHOD:PUBLISH
X-WR-CALNAME:llagosta@llagosta.cat
X-WR-TIMEZONE:Europe/Madrid
DESCRIPTION:L'Handbol Club Vallag celebrarà aquest cap de setmana el campionat de lliga i l'ascens a Segona Catalana del conjunt sènior. Jugadors, directiva i familiars compartiran dissabte una costellada al pati de l'Institut Marina.
URI:https://www.llagosta.cat/actualitat/noticies/el-senior-del-vallag-acaba-la-lliga-de-lascens-a-segona-catalana-amb-un-nou-triomf.html
CLASS:PUBLIC
END:VEVENT
END:VCALENDAR
