BEGIN:VCALENDAR
VERSION:2.0
CALSCALE:GREGORIAN
PRODID:-//Diputació de Barcelona//DibaCMS//EN
BEGIN:VEVENT
UID:5099
DTSTAMP:20260423T022140
DTSTART:20120524T000000
DTEND:20130524T000000
SUMMARY:Noves adhesions de comerços de la Llagosta al Voluntariat per la Llengua
LOCATION:
METHOD:PUBLISH
X-WR-CALNAME:llagosta@llagosta.cat
X-WR-TIMEZONE:Europe/Madrid
DESCRIPTION:L'Oficina de Català de la Llagosta ha estès el programa Voluntariat per la Llengua a comerços, entitats i altres organitzacions de la nostra localitat. Fins al moment, la iniciativa ha rebut ja més de 25 adhesions.
URI:https://www.llagosta.cat/actualitat/noticies/noves-adhesions-de-comercos-de-la-llagosta-al-voluntariat-per-la-llengua.html
CLASS:PUBLIC
END:VEVENT
END:VCALENDAR
