BEGIN:VCALENDAR
VERSION:2.0
CALSCALE:GREGORIAN
PRODID:-//Diputació de Barcelona//DibaCMS//EN
BEGIN:VEVENT
UID:5098
DTSTAMP:20260423T015102
DTSTART:20120524T000000
DTEND:20130524T000000
SUMMARY:Renovat el conveni per al manteniment de l'Oficina Local d'Habitatge
LOCATION:
METHOD:PUBLISH
X-WR-CALNAME:llagosta@llagosta.cat
X-WR-TIMEZONE:Europe/Madrid
DESCRIPTION:L'Ajuntament de la Llagosta i la Generalitat han renovat el conveni per mantenir en funcionament l'Oficina Local d'Habitatge. L'acord té vigència fins al 31 de desembre de 2012 amb la possibilitat de pròrroga.
URI:https://www.llagosta.cat/actualitat/noticies/renovat-el-conveni-per-al-manteniment-de-loficina-local-dhabitatge.html
CLASS:PUBLIC
END:VEVENT
END:VCALENDAR
