BEGIN:VCALENDAR
VERSION:2.0
CALSCALE:GREGORIAN
PRODID:-//Diputació de Barcelona//DibaCMS//EN
BEGIN:VEVENT
UID:5097
DTSTAMP:20260423T035716
DTSTART:20120524T000000
DTEND:20130524T000000
SUMMARY:La Biblioteca va organitzar ahir la presentació del segon llibre de Montse Gómez
LOCATION:
METHOD:PUBLISH
X-WR-CALNAME:llagosta@llagosta.cat
X-WR-TIMEZONE:Europe/Madrid
DESCRIPTION:La sala d'exposicions del Centre Cultural i Juvenil Can Pelegrí es va omplir ahir, per la tarda, durant la presentació del llibre Reconciliación, de Montse Gómez. Unes 65 persones van assistir a l'acte, entre elles la regidora d'Educació de l'Ajuntament de la Llagosta, Mireia Egea.
URI:https://www.llagosta.cat/actualitat/noticies/la-biblioteca-va-organitzar-ahir-la-presentacio-del-segon-llibre-de-montse-gomez.html
CLASS:PUBLIC
END:VEVENT
END:VCALENDAR
