BEGIN:VCALENDAR
VERSION:2.0
CALSCALE:GREGORIAN
PRODID:-//Diputació de Barcelona//DibaCMS//EN
BEGIN:VEVENT
UID:5096
DTSTAMP:20260423T042402
DTSTART:20120523T000000
DTEND:20130523T000000
SUMMARY:Balanç positiu de la celebració de la Cruz de Mayo de la Casa de Andalucía
LOCATION:
METHOD:PUBLISH
X-WR-CALNAME:llagosta@llagosta.cat
X-WR-TIMEZONE:Europe/Madrid
DESCRIPTION:La Casa de Andalucía de la Llagosta ha fet avui un balanç positiu de la celebració de la Cruz de Mayo de diumenge. Malgrat la pluja, els dos actes programats van comptar amb una bona assistència de públic.
URI:https://www.llagosta.cat/actualitat/noticies/balanc-positiu-de-la-celebracio-de-la-cruz-de-mayo-de-la-casa-de-andalucia.html
CLASS:PUBLIC
END:VEVENT
END:VCALENDAR
