BEGIN:VCALENDAR
VERSION:2.0
CALSCALE:GREGORIAN
PRODID:-//Diputació de Barcelona//DibaCMS//EN
BEGIN:VEVENT
UID:5095
DTSTAMP:20260423T041252
DTSTART:20120523T000000
DTEND:20130523T000000
SUMMARY:CDC de la Llagosta escolleix Mireia Egea com a nova presidenta de l'executiva
LOCATION:
METHOD:PUBLISH
X-WR-CALNAME:llagosta@llagosta.cat
X-WR-TIMEZONE:Europe/Madrid
DESCRIPTION:Mireia Egea, regidora de CiU a l'Ajuntament de la Llagosta, és la nova presidenta local de Convergència Democràtica de Catalunya. La formació nacionalista va renovar l'executiva durant la seva darrera assemblea. El fins ara president de CDC, Zacaries Egea, continuarà formant part de la direcció del partit.
URI:https://www.llagosta.cat/actualitat/noticies/cdc-de-la-llagosta-escolleix-mireia-egea-com-a-nova-presidenta-de-lexecutiva.html
CLASS:PUBLIC
END:VEVENT
END:VCALENDAR
