BEGIN:VCALENDAR
VERSION:2.0
CALSCALE:GREGORIAN
PRODID:-//Diputació de Barcelona//DibaCMS//EN
BEGIN:VEVENT
UID:5094
DTSTAMP:20260423T173156
DTSTART:20120523T000000
DTEND:20130523T000000
SUMMARY:El pregó de la Festa Major 2012 anirà a càrrec de jugadores del CD La Concòrdia
LOCATION:
METHOD:PUBLISH
X-WR-CALNAME:llagosta@llagosta.cat
X-WR-TIMEZONE:Europe/Madrid
DESCRIPTION:Les jugadores de futbol sala del primer equip del Club Deportivo La Concòrdia s'encarregaran enguany de fer el pregó de la Festa Major de la Llagosta. Aquesta temporada, l'equip s'ha proclamat campió de lliga al grup 1 de la Primera Divisió. Així, el pregó de la Festa Major el protagonitzaran novament persones de la Llagosta que han destacat durant l'any. El 2011, es van encarregar d'obrir els actes de la festa gran els membres del grup de teatre TELL.
URI:https://www.llagosta.cat/actualitat/noticies/el-prego-de-la-festa-major-2012-anira-a-carrec-de-jugadores-del-cd-la-concordia.html
CLASS:PUBLIC
END:VEVENT
END:VCALENDAR
