BEGIN:VCALENDAR
VERSION:2.0
CALSCALE:GREGORIAN
PRODID:-//Diputació de Barcelona//DibaCMS//EN
BEGIN:VEVENT
UID:5093
DTSTAMP:20260423T120045
DTSTART:20120523T000000
DTEND:20130523T000000
SUMMARY:Es torna a posar en marxa el procés d'adjudicació de quatre parades al Mercat Municipal
LOCATION:
METHOD:PUBLISH
X-WR-CALNAME:llagosta@llagosta.cat
X-WR-TIMEZONE:Europe/Madrid
DESCRIPTION:L'Ajuntament de la Llagosta ha tornat a posar en marxa el procediment d'adjudicació de quatre parades del Mercat Municipal, després que al febrer no es presentés cap sol·licitud. Les persones o empreses interessades tenen temps fins al 30 de juny per lliurar a l'Oficina d'Atenció a la Ciutadania la documentació necessària per poder optar a l'adjudicació.
URI:https://www.llagosta.cat/actualitat/noticies/es-torna-a-posar-en-marxa-el-proces-dadjudicacio-de-quatre-parades-al-mercat-municipal.html
CLASS:PUBLIC
END:VEVENT
END:VCALENDAR
