BEGIN:VCALENDAR
VERSION:2.0
CALSCALE:GREGORIAN
PRODID:-//Diputació de Barcelona//DibaCMS//EN
BEGIN:VEVENT
UID:5092
DTSTAMP:20260422T203742
DTSTART:20120523T000000
DTEND:20130523T000000
SUMMARY:L'Escola de Pares i Mares de la Llagosta organitza demà un taller a Can Pelegrí
LOCATION:
METHOD:PUBLISH
X-WR-CALNAME:llagosta@llagosta.cat
X-WR-TIMEZONE:Europe/Madrid
DESCRIPTION:L'Escola de Pares i Mares de la Llagosta organitza un taller sota el títol de Comunicació i apropament a la gestió dels conflictes a la família. L'activitat es desenvoluparà demà, a les sis de la tarda, a Can Pelegrí.
URI:https://www.llagosta.cat/actualitat/noticies/lescola-de-pares-i-mares-de-la-llagosta-organitza-dema-un-taller-a-can-pelegri.html
CLASS:PUBLIC
END:VEVENT
END:VCALENDAR
