BEGIN:VCALENDAR
VERSION:2.0
CALSCALE:GREGORIAN
PRODID:-//Diputació de Barcelona//DibaCMS//EN
BEGIN:VEVENT
UID:5091
DTSTAMP:20260423T021954
DTSTART:20120523T000000
DTEND:20130523T000000
SUMMARY:El període de presentació d'obres per al Concurs de cartells de la Festa Major acaba demà
LOCATION:
METHOD:PUBLISH
X-WR-CALNAME:llagosta@llagosta.cat
X-WR-TIMEZONE:Europe/Madrid
DESCRIPTION:Demà, finalitza el període de presentació d'obres per al concurs per escollir el cartell de la Festa Major 2012, organitzat per l'Ajuntament de la Llagosta. Divendres, a les onze del matí, al saló de plens es farà un acte en el qual es donaran a conèixer les tres obres finalistes. El cartell guanyador s'escollirà per votació popular. La novetat d'aquest any és que les votacions també es podran fer per Internet.
URI:https://www.llagosta.cat/actualitat/noticies/el-periode-de-presentacio-dobres-per-al-concurs-de-cartells-de-la-festa-major-acaba-dema.html
CLASS:PUBLIC
END:VEVENT
END:VCALENDAR
