BEGIN:VCALENDAR
VERSION:2.0
CALSCALE:GREGORIAN
PRODID:-//Diputació de Barcelona//DibaCMS//EN
BEGIN:VEVENT
UID:5090
DTSTAMP:20260424T022431
DTSTART:20120522T000000
DTEND:20130522T000000
SUMMARY:Obert el període de preinscripció a l'Escola Municipal de Música de la Llagosta
LOCATION:
METHOD:PUBLISH
X-WR-CALNAME:llagosta@llagosta.cat
X-WR-TIMEZONE:Europe/Madrid
DESCRIPTION:Ja han començat les preinscripcions per al curs 2012-2013 a l'Escola Municipal de Música. Aquest tràmit es pot realitzar fins al 31 de maig al mateix centre, situat a la tercera planta de Can Pelegrí.
URI:https://www.llagosta.cat/actualitat/noticies/obert-el-periode-de-preinscripcio-a-lescola-municipal-de-musica-de-la-llagosta.html
CLASS:PUBLIC
END:VEVENT
END:VCALENDAR
