BEGIN:VCALENDAR
VERSION:2.0
CALSCALE:GREGORIAN
PRODID:-//Diputació de Barcelona//DibaCMS//EN
BEGIN:VEVENT
UID:5089
DTSTAMP:20260423T083216
DTSTART:20120522T000000
DTEND:20130522T000000
SUMMARY:La cloenda del cicle de passejades per a la gent gran tindrà lloc demà a Puig-reig
LOCATION:
METHOD:PUBLISH
X-WR-CALNAME:llagosta@llagosta.cat
X-WR-TIMEZONE:Europe/Madrid
DESCRIPTION:Demà, es farà la cloenda de les passejades per a la gent gran d'aquesta temporada, dins del cicle Esport per a tothom, organitzat per la Diputació de Barcelona i diversos ajuntaments, entre ells el de la Llagosta. La sortida serà a la localitat Puig-reig.
URI:https://www.llagosta.cat/actualitat/noticies/la-cloenda-del-cicle-de-passejades-per-a-la-gent-gran-tindra-lloc-dema-a-puig-reig.html
CLASS:PUBLIC
END:VEVENT
END:VCALENDAR
