BEGIN:VCALENDAR
VERSION:2.0
CALSCALE:GREGORIAN
PRODID:-//Diputació de Barcelona//DibaCMS//EN
BEGIN:VEVENT
UID:5088
DTSTAMP:20260423T035924
DTSTART:20120522T000000
DTEND:20130522T000000
SUMMARY:Un 25% del professorat ha fet vaga avui als centres educatius de la Llagosta
LOCATION:
METHOD:PUBLISH
X-WR-CALNAME:llagosta@llagosta.cat
X-WR-TIMEZONE:Europe/Madrid
DESCRIPTION:La vaga convocada avui pels sindicats i secundada per la Federació d'Associacions de Mares i Pares de Catalunya, entre d'altres, està tenint un seguiment força desigual a la nostra localitat. Un 25% del professorat ha fet vaga. L'assistència d'alumnes a classe ha estat molt baixa.
URI:https://www.llagosta.cat/actualitat/noticies/un-25-del-professorat-ha-fet-vaga-avui-als-centres-educatius-de-la-llagosta.html
CLASS:PUBLIC
END:VEVENT
END:VCALENDAR
