BEGIN:VCALENDAR
VERSION:2.0
CALSCALE:GREGORIAN
PRODID:-//Diputació de Barcelona//DibaCMS//EN
BEGIN:VEVENT
UID:5087
DTSTAMP:20260422T182157
DTSTART:20120522T000000
DTEND:20130522T000000
SUMMARY:Demà, es presentarà a la Biblioteca el llibre Reconciliación, de Montse Gómez
LOCATION:
METHOD:PUBLISH
X-WR-CALNAME:llagosta@llagosta.cat
X-WR-TIMEZONE:Europe/Madrid
DESCRIPTION:La Biblioteca Municipal de la Llagosta acollirà demà la presentació del llibre Reconciliación, de Montse Gómez, que és col·laboradora de Ràdio La Llagosta. Es tracta del seu segon llibre. L'acte tindrà lloc a partir de les quatre de la tarda.
URI:https://www.llagosta.cat/actualitat/noticies/dema-es-presentara-a-la-biblioteca-el-llibre-reconciliacion-de-montse-gomez.html
CLASS:PUBLIC
END:VEVENT
END:VCALENDAR
