BEGIN:VCALENDAR
VERSION:2.0
CALSCALE:GREGORIAN
PRODID:-//Diputació de Barcelona//DibaCMS//EN
BEGIN:VEVENT
UID:5086
DTSTAMP:20260422T182100
DTSTART:20120522T000000
DTEND:20130522T000000
SUMMARY:Suspès el partit entre el Viejas Glorias i el Pomar perquè els visitants van abandonar el camp
LOCATION:
METHOD:PUBLISH
X-WR-CALNAME:llagosta@llagosta.cat
X-WR-TIMEZONE:Europe/Madrid
DESCRIPTION:El partit entre el Club Deportivo Viejas Glorias i el Pomar de dissabte passat va ser suspès a falta de cinc minuts per al final quan l'equip visitant va abandonar el camp. En aquell moment, el marcador era de 2 a 3. L'àrbitre va assenyalar un clar penal a favor del Viejas Glorias i va expulsar dos jugadors del Pomar. Abans, havia fet fora altres dos jugadors. El Pomar, que es quedava amb només set efectius al camp, va decidir aleshores abandonar el camp. Ara, la Federació haurà de prendre una decisió. 
URI:https://www.llagosta.cat/actualitat/noticies/suspes-el-partit-entre-el-viejas-glorias-i-el-pomar-perque-els-visitants-van-abandonar-el-camp.html
CLASS:PUBLIC
END:VEVENT
END:VCALENDAR
