BEGIN:VCALENDAR
VERSION:2.0
CALSCALE:GREGORIAN
PRODID:-//Diputació de Barcelona//DibaCMS//EN
BEGIN:VEVENT
UID:5085
DTSTAMP:20260422T204410
DTSTART:20120521T000000
DTEND:20130521T000000
SUMMARY:Demà, hi haurà jornada de vaga a l'ensenyament públic de tot l'Estat
LOCATION:
METHOD:PUBLISH
X-WR-CALNAME:llagosta@llagosta.cat
X-WR-TIMEZONE:Europe/Madrid
DESCRIPTION:Demà dimarts, 22 de maig, la comunitat educativa està cridada a secundar la vaga estatal convocada pels sindicats a tot l'ensenyament públic. La jornada de protesta arriba després de les mesures anunciades pel Ministeri d'Educació per al proper curs. 
URI:https://www.llagosta.cat/actualitat/noticies/dema-hi-haura-jornada-de-vaga-a-lensenyament-public-de-tot-lestat.html
CLASS:PUBLIC
END:VEVENT
END:VCALENDAR
