BEGIN:VCALENDAR
VERSION:2.0
CALSCALE:GREGORIAN
PRODID:-//Diputació de Barcelona//DibaCMS//EN
BEGIN:VEVENT
UID:5084
DTSTAMP:20260423T224437
DTSTART:20120521T000000
DTEND:20130521T000000
SUMMARY:L'Aula d'Estudi de Can Pelegrí amplia el seu horari per l'època d'exàmens
LOCATION:
METHOD:PUBLISH
X-WR-CALNAME:llagosta@llagosta.cat
X-WR-TIMEZONE:Europe/Madrid
DESCRIPTION:L'Aula d'Estudi de Can Pelegrí amplia el seu horari des d'avui i fins al 13 de juny, coincidint amb l'època d'exàmens. D'aquesta manera, els estudiants de la nostra localitat poden disposar novament d'aquest espai durant més hores.
URI:https://www.llagosta.cat/actualitat/noticies/laula-destudi-de-can-pelegri-amplia-el-seu-horari-per-lepoca-dexamens.html
CLASS:PUBLIC
END:VEVENT
END:VCALENDAR
