BEGIN:VCALENDAR
VERSION:2.0
CALSCALE:GREGORIAN
PRODID:-//Diputació de Barcelona//DibaCMS//EN
BEGIN:VEVENT
UID:5083
DTSTAMP:20260423T042645
DTSTART:20120521T000000
DTEND:20130521T000000
SUMMARY:La campanya #novullpagar va protagonitzar ahir un acte al peatge de la Llagosta
LOCATION:
METHOD:PUBLISH
X-WR-CALNAME:llagosta@llagosta.cat
X-WR-TIMEZONE:Europe/Madrid
DESCRIPTION:La campanya ciutadana #novullpagar va protagonitzar ahir nous actes de protesta en contra del pagament als peatges de les autopistes catalanes. Una de les mobilitzacions va tenir lloc a la barrera de la C-33, situada al terme municipal de la Llagosta. 
URI:https://www.llagosta.cat/actualitat/noticies/la-campanya-novullpagar-va-protagonitzar-ahir-un-acte-al-peatge-de-la-llagosta.html
CLASS:PUBLIC
END:VEVENT
END:VCALENDAR
