BEGIN:VCALENDAR
VERSION:2.0
CALSCALE:GREGORIAN
PRODID:-//Diputació de Barcelona//DibaCMS//EN
BEGIN:VEVENT
UID:5082
DTSTAMP:20260424T111331
DTSTART:20120521T000000
DTEND:20130521T000000
SUMMARY:L'Ajuntament commemora el Dia Internacional d'Acció per la Salut de les Dones
LOCATION:
METHOD:PUBLISH
X-WR-CALNAME:llagosta@llagosta.cat
X-WR-TIMEZONE:Europe/Madrid
DESCRIPTION:Avui comença a desenvolupar-se a la Llagosta un seguit d'actes per commemorar el Dia Internacional d'Acció per la Salut de les Dones, que s'escau el proper 28 de maig. Aquest dia es va instituir a Costa Rica, l’any 1987, amb l’objectiu de promoure que cada any es dediqui un dia a fer públic l’estat de salut de les dones, les seves demandes i el compromís de les administracions per afavorir-les.
URI:https://www.llagosta.cat/actualitat/noticies/lajuntament-commemora-el-dia-internacional-daccio-per-la-salut-de-les-dones.html
CLASS:PUBLIC
END:VEVENT
END:VCALENDAR
