BEGIN:VCALENDAR
VERSION:2.0
CALSCALE:GREGORIAN
PRODID:-//Diputació de Barcelona//DibaCMS//EN
BEGIN:VEVENT
UID:5081
DTSTAMP:20260422T204433
DTSTART:20120521T000000
DTEND:20130521T000000
SUMMARY:La tempesta d'ahir provoca una inundació a l'edifici municipal del passeig del Pintor Sert
LOCATION:
METHOD:PUBLISH
X-WR-CALNAME:llagosta@llagosta.cat
X-WR-TIMEZONE:Europe/Madrid
DESCRIPTION:La tempesta de pluja i calamarsa que va patir ahir la Llagosta va provocar que s'inundés la segona planta de l'edifici administratiu de l'Ajuntament de la Llagosta, al passeig del Pintor Sert. Així, quan aquest matí els treballadors municipals han arribat a l'equipament s'han trobat amb diferents danys materials a Alcaldia, a la Sala de Govern, a Secretaria i als despatxos de Recursos Humans.
URI:https://www.llagosta.cat/actualitat/noticies/la-tempesta-dahir-provoca-una-inundacio-a-ledifici-municipal-del-passeig-del-pintor-sert.html
CLASS:PUBLIC
END:VEVENT
END:VCALENDAR
